BEGIN:VCALENDAR
VERSION:2.0
PRODID:-//Sitges Info - ECPv5.4.0//NONSGML v1.0//EN
CALSCALE:GREGORIAN
METHOD:PUBLISH
X-WR-CALNAME:Sitges Info
X-ORIGINAL-URL:http://www.sitges-info.nl
X-WR-CALDESC:Evenementen voor Sitges Info
BEGIN:VTIMEZONE
TZID:Europe/Paris
BEGIN:DAYLIGHT
TZOFFSETFROM:+0100
TZOFFSETTO:+0200
TZNAME:CEST
DTSTART:20160327T010000
END:DAYLIGHT
BEGIN:STANDARD
TZOFFSETFROM:+0200
TZOFFSETTO:+0100
TZNAME:CET
DTSTART:20161030T010000
END:STANDARD
END:VTIMEZONE
BEGIN:VEVENT
DTSTART;VALUE=DATE:20161102
DTEND;VALUE=DATE:20161110
DTSTAMP:20260422T042225
CREATED:20161020T204928Z
LAST-MODIFIED:20161020T205537Z
UID:1998-1478044800-1478735999@www.sitges-info.nl
SUMMARY:Internationaal theaterfestival 'Barcelona Solo'
DESCRIPTION:Sinds dit jaar heeft Sitges ook een theaterfestival: Barcelona-solo. Een week lang vinden er verschillende solo-performances plaats; veel voorstellingen zijn in het Engels\, dus ook geschikt voor buitenlanders in Sitges. Zeker nu de avonden niet meer zo lekker zijn om buiten door te brengen. \n \nHet festival wordt ondersteund door het ‘Institute of Arts Barcelona’\, dat sinds een jaar in Sitges is gevestigd. In dat instituut (ter hoogte van de kerk van Vinyet in Terramar\, aan de andere kant van het spoor) vinden ook verschillende uitvoeringen plaats. De andere plek is wat centraler gelegen: De ‘Cava club’ Dat is onder de bioscoop ‘El Retiro’ aan de straat Angel Vidal; midden in het centrum. \nTickets voor de voorstellingen kosten 12 euro en 10 euro in de voorverkoop. \nMeer informatie en het volledige programma is te vinden op: http://barcelonasolo.com
URL:http://www.sitges-info.nl/event/internationaal-theaterfestival-barcelona-solo/
LOCATION:angel vidal\, Sitges\, Spanje
END:VEVENT
END:VCALENDAR