BEGIN:VCALENDAR
VERSION:2.0
PRODID:-//Sitges Info - ECPv5.4.0//NONSGML v1.0//EN
CALSCALE:GREGORIAN
METHOD:PUBLISH
X-WR-CALNAME:Sitges Info
X-ORIGINAL-URL:http://www.sitges-info.nl
X-WR-CALDESC:Evenementen voor Sitges Info
BEGIN:VTIMEZONE
TZID:Europe/Paris
BEGIN:DAYLIGHT
TZOFFSETFROM:+0100
TZOFFSETTO:+0200
TZNAME:CEST
DTSTART:20170326T010000
END:DAYLIGHT
BEGIN:STANDARD
TZOFFSETFROM:+0200
TZOFFSETTO:+0100
TZNAME:CET
DTSTART:20171029T010000
END:STANDARD
END:VTIMEZONE
BEGIN:VEVENT
DTSTART;VALUE=DATE:20170901
DTEND;VALUE=DATE:20170908
DTSTAMP:20260422T042349
CREATED:20170828T213253Z
LAST-MODIFIED:20170828T213253Z
UID:2086-1504224000-1504828799@www.sitges-info.nl
SUMMARY:La Palma Rosa - LGBT filmfestival
DESCRIPTION:Begin september vindt de eerste editie plaats van “La Palma Rosa”: een LGBT festival met voornamelijk films maar ook een enkele cabaretvoorstelling. \nVeel voorstellingen zijn Engelstalig en ook de website is Engels\, dus goed ook goed toegankelijk voor Nederlanders en Vlamingen. De films zijn in de bioscoop “El Retiro”.
URL:http://www.sitges-info.nl/event/la-palma-rosa-lgbt-filmfestival/
LOCATION:El Retiro Sitges\, C. Angel Vidal 17\, sitges\, Spanje
END:VEVENT
END:VCALENDAR